BEGIN:VCALENDAR
VERSION:2.0
PRODID:-//USS Alabama Battleship Memorial Park - ECPv6.3.5//NONSGML v1.0//EN
CALSCALE:GREGORIAN
METHOD:PUBLISH
X-WR-CALNAME:USS Alabama Battleship Memorial Park
X-ORIGINAL-URL:https://www.ussalabama.com
X-WR-CALDESC:Events for USS Alabama Battleship Memorial Park
REFRESH-INTERVAL;VALUE=DURATION:PT1H
X-Robots-Tag:noindex
X-PUBLISHED-TTL:PT1H
BEGIN:VTIMEZONE
TZID:UTC
BEGIN:STANDARD
TZOFFSETFROM:+0000
TZOFFSETTO:+0000
TZNAME:UTC
DTSTART:20260101T000000
END:STANDARD
END:VTIMEZONE
BEGIN:VEVENT
DTSTART;TZID=UTC:20260425T080000
DTEND;TZID=UTC:20260425T170000
DTSTAMP:20260425T014203
CREATED:20260305T221242Z
LAST-MODIFIED:20260310T202407Z
UID:4920-1777104000-1777136400@www.ussalabama.com
SUMMARY:MOPAR Car Show
DESCRIPTION:Come join the Big Easy Mopar Association as they host their annual car show at USS ALABAMA Battleship Memorial Park. Enjoy a variety of classic and custom cars. A great day surrounded by automotive enthusiasts. \n  \nParking is $5 per car and $30 per RV or vehicles with three more or axles.
URL:https://www.ussalabama.com/event/mopar-car-show/
LOCATION:Grounds of the Park
END:VEVENT
END:VCALENDAR