BEGIN:VCALENDAR
VERSION:2.0
PRODID:-//USS Alabama Battleship Memorial Park - ECPv6.3.5//NONSGML v1.0//EN
CALSCALE:GREGORIAN
METHOD:PUBLISH
X-WR-CALNAME:USS Alabama Battleship Memorial Park
X-ORIGINAL-URL:https://www.ussalabama.com
X-WR-CALDESC:Events for USS Alabama Battleship Memorial Park
REFRESH-INTERVAL;VALUE=DURATION:PT1H
X-Robots-Tag:noindex
X-PUBLISHED-TTL:PT1H
BEGIN:VTIMEZONE
TZID:UTC
BEGIN:STANDARD
TZOFFSETFROM:+0000
TZOFFSETTO:+0000
TZNAME:UTC
DTSTART:20260101T000000
END:STANDARD
END:VTIMEZONE
BEGIN:VEVENT
DTSTART;TZID=UTC:20261111T190000
DTEND;TZID=UTC:20261111T210000
DTSTAMP:20260419T161032
CREATED:20260309T200518Z
LAST-MODIFIED:20260309T200518Z
UID:4927-1794423600-1794430800@www.ussalabama.com
SUMMARY:Veterans Day Concert
DESCRIPTION:The Mobile Pops will present their annual Veterans Day concert in the Medal of Honor Aircraft Pavilion. The concert will feature traditional patriotic music\, military marches\, contemporary favorites and more. The highlight of the performance is the playing of the service songs and recognition of our veterans. The concert is open to the public and free to attend.
URL:https://www.ussalabama.com/event/veterans-day-concert/
LOCATION:Aircraft Pavilion
ORGANIZER;CN="USS ALABAMA Battleship Memorial Park":MAILTO:gharris@ussalabama.com
END:VEVENT
BEGIN:VEVENT
DTSTART;TZID=UTC:20261205T080000
DTEND;TZID=UTC:20261205T150000
DTSTAMP:20260419T161032
CREATED:20251217T194454Z
LAST-MODIFIED:20260309T200633Z
UID:4874-1796457600-1796482800@www.ussalabama.com
SUMMARY:December Living History Drill
DESCRIPTION:Come see history come to life with our WWII reenactors during their December drill. Interact with historical WWII reenactors aboard the USS ALABAMA and USS DRUM. These historical reenactors\, dressed in WWII period Navy uniforms\, demonstrate what life aboard ship was like during wartime. They share stories from our original crewmen\, conduct weapons briefings\, and demonstrate drills while aboard ship. \nBe sure to grab a spot on the main deck of the USS ALABAMA at 1:00 p.m. when “Call to Battle Stations” is sounded. Enemy aircraft will fly over attacking the ship\, and the crewmen will fire back defend her with their guns blazing! Spectators will be able to take in the whole experience while the crew fires the ship’s 20mm and 40mm guns. Planes fly based on mechanics and weather conditions that day. \nThe Deep South Amateur Radio Club will be broadcasting from Radio Central aboard the USS ALABAMA during the drill and welcome visitors to stop by to listen. For all ham radio operators\, the call letters are K4DSR and K5LDA broadcasting between 20 and 40. \nThe drill is open to the public and included with general admission tickets.
URL:https://www.ussalabama.com/event/december-living-history-drill-2/
LOCATION:USS ALABAMA Battleship Memorial Park\, 2703 Battleship Parkway\, Mobile\, AL\, 36602\, United States
ORGANIZER;CN="USS ALABAMA Battleship Memorial Park":MAILTO:gharris@ussalabama.com
END:VEVENT
END:VCALENDAR