BEGIN:VCALENDAR
VERSION:2.0
PRODID:-//USS Alabama Battleship Memorial Park - ECPv6.3.5//NONSGML v1.0//EN
CALSCALE:GREGORIAN
METHOD:PUBLISH
X-WR-CALNAME:USS Alabama Battleship Memorial Park
X-ORIGINAL-URL:https://www.ussalabama.com
X-WR-CALDESC:Events for USS Alabama Battleship Memorial Park
REFRESH-INTERVAL;VALUE=DURATION:PT1H
X-Robots-Tag:noindex
X-PUBLISHED-TTL:PT1H
BEGIN:VTIMEZONE
TZID:UTC
BEGIN:STANDARD
TZOFFSETFROM:+0000
TZOFFSETTO:+0000
TZNAME:UTC
DTSTART:20240101T000000
END:STANDARD
END:VTIMEZONE
BEGIN:VEVENT
DTSTART;TZID=UTC:20241207T080000
DTEND;TZID=UTC:20241207T150000
DTSTAMP:20260422T073528
CREATED:20231025T211733Z
LAST-MODIFIED:20231113T220955Z
UID:4086-1733558400-1733583600@www.ussalabama.com
SUMMARY:December Living History Crew Drill
DESCRIPTION:Come see history come to life with our WWII reenactors during our December drill. Interact with historical WWII reenactors aboard the USS ALABAMA and USS DRUM. These historical reenactors\, dressed in WWII period Navy uniforms\, demonstrate what life aboard ship was like during wartime. They share stories from our original crewmen\, conduct weapons briefings\, and demonstrate drills while aboard ship. \nBe sure to grab a spot on the main deck of the USS ALABAMA at 1:00 p.m. when “Call to Battle Stations” is sounded. Enemy aircraft will fly over attacking the ship\, and the crewmen will fire back defend her with their guns blazing! Spectators will be able to take in the whole experience while the crew fires the ship’s 20mm and 40mm guns. Planes fly based on mechanics and weather conditions that day. \nThe Deep South Amateur Radio Club will be broadcasting from Radio Central aboard the USS ALABAMA during the drill and welcome visitors to stop by to listen. For all ham radio operators\, the call letters are K4DSR and K5LDA broadcasting between 20 and 40. \nThe drill is open to the public and included with general admission tickets. \nPurchase admission tickets here: \nAdmissions \n \n \nOur Living History Crew Drills are held six times a year\, to see when the next drill is\, see our upcoming events.  \nStill looking for things to do after your visit at the park? Explore all that there is to do while visiting Mobile.
URL:https://www.ussalabama.com/event/december-living-history-crew-drill/
END:VEVENT
END:VCALENDAR